BEGIN:VCALENDAR
PRODID:iCalendar-Ruby
VERSION:2.0
X-WR-TIMEZONE:America/Los_Angeles
BEGIN:VTIMEZONE
TZID:America/Los_Angeles
X-LIC-LOCATION:America/Los_Angeles
BEGIN:STANDARD
DTSTART:20241103T020000
RRULE:FREQ=YEARLY;BYDAY=1SU;BYMONTH=11
TZNAME:PST
TZOFFSETFROM:-0700
TZOFFSETTO:-0800
END:STANDARD
BEGIN:DAYLIGHT
DTSTART:20250309T020000
RRULE:FREQ=YEARLY;BYDAY=2SU;BYMONTH=3
TZNAME:PDT
TZOFFSETFROM:-0800
TZOFFSETTO:-0700
END:DAYLIGHT
END:VTIMEZONE
BEGIN:VEVENT
DESCRIPTION: https://northeastsector.ca/calendar.aspx?EID=2834
DTEND;TZID=America/Los_Angeles:20260620T220000
DTSTAMP;TZID=America/Los_Angeles:20260331T090020
DTSTART;TZID=America/Los_Angeles:20260620T200000
LAST-MODIFIED;TZID=America/Los_Angeles:20260331T090020
LOCATION: - Town Centre Park 1299 Pinetree Way Coquitlam BC V3B 7S4
SEQUENCE:0
SUMMARY:ScotFestBC: The British Columbia Highland Games 
UID:2834
URL:/common/modules/iCalendar/iCalendar.aspx?feed=calendar&catID=22
END:VEVENT
BEGIN:VEVENT
DESCRIPTION: https://northeastsector.ca/calendar.aspx?EID=2833
DTEND;TZID=America/Los_Angeles:20260619T220000
DTSTAMP;TZID=America/Los_Angeles:20260331T090014
DTSTART;TZID=America/Los_Angeles:20260619T160000
LAST-MODIFIED;TZID=America/Los_Angeles:20260331T090014
LOCATION: - Town Centre Park 1299 Pinetree Way Coquitlam BC V3B 7S4
SEQUENCE:0
SUMMARY:ScotFestBC: The British Columbia Highland Games 
UID:2833
URL:/common/modules/iCalendar/iCalendar.aspx?feed=calendar&catID=22
END:VEVENT
BEGIN:VEVENT
DESCRIPTION: https://northeastsector.ca/calendar.aspx?EID=2835
DTEND;TZID=America/Los_Angeles:20260531T120000
DTSTAMP;TZID=America/Los_Angeles:20260414T115335
DTSTART;TZID=America/Los_Angeles:20260531T100000
LAST-MODIFIED;TZID=America/Los_Angeles:20260414T115335
LOCATION: - Town Centre Park - West Lawn 1299 Pinetree Way Coquitlam BC V3B
  7S4
SEQUENCE:0
SUMMARY:IG Wealth Management Walk for Alzheimer's\, presented by Go Auto
UID:2835
URL:/common/modules/iCalendar/iCalendar.aspx?feed=calendar&catID=22
END:VEVENT
BEGIN:VEVENT
DESCRIPTION: https://northeastsector.ca/calendar.aspx?EID=2832
DTEND;TZID=America/Los_Angeles:20260531T114500
DTSTAMP;TZID=America/Los_Angeles:20260331T085133
DTSTART;TZID=America/Los_Angeles:20260531T070000
LAST-MODIFIED;TZID=America/Los_Angeles:20260331T085133
LOCATION: - Como Lake Park 700 Gatensbury Street Coquitlam BC V3J 5G8
SEQUENCE:0
SUMMARY:Como Lake Fishing Derby
UID:2832
URL:/common/modules/iCalendar/iCalendar.aspx?feed=calendar&catID=22
END:VEVENT
BEGIN:VEVENT
DESCRIPTION: https://northeastsector.ca/calendar.aspx?EID=2831
DTEND;TZID=America/Los_Angeles:20260530T114500
DTSTAMP;TZID=America/Los_Angeles:20260331T084950
DTSTART;TZID=America/Los_Angeles:20260530T070000
LAST-MODIFIED;TZID=America/Los_Angeles:20260331T084950
LOCATION: - Como Lake Park 700 Gatensbury Street Coquitlam BC V3J 5G8
SEQUENCE:0
SUMMARY:Como Lake Fishing Derby
UID:2831
URL:/common/modules/iCalendar/iCalendar.aspx?feed=calendar&catID=22
END:VEVENT
BEGIN:VEVENT
DESCRIPTION: https://northeastsector.ca/calendar.aspx?EID=2841
DTEND;TZID=America/Los_Angeles:20260529T110000
DTSTAMP;TZID=America/Los_Angeles:20260420T100241
DTSTART;TZID=America/Los_Angeles:20260529T100000
LAST-MODIFIED;TZID=America/Los_Angeles:20260420T100241
LOCATION: - Dogwood Pavilion - Dogwood Room 1655 Winslow Avenue Coquitlam B
 C V3J 7X1
SEQUENCE:0
SUMMARY:CCB Presentation
UID:2841
URL:/common/modules/iCalendar/iCalendar.aspx?feed=calendar&catID=22
END:VEVENT
BEGIN:VEVENT
DESCRIPTION: https://northeastsector.ca/calendar.aspx?EID=2845
DTEND;TZID=America/Los_Angeles:20260528T204500
DTSTAMP;TZID=America/Los_Angeles:20260420T101849
DTSTART;TZID=America/Los_Angeles:20260528T184500
LAST-MODIFIED;TZID=America/Los_Angeles:20260420T101849
LOCATION: - Pinetree Community Centre - Gym 2 1260 Pinetree Way Coquitlam B
 C V3B 7Z4
SEQUENCE:0
SUMMARY:Sensory-Friendly Family Basketball Drop-in (all ages)
UID:2845
URL:/common/modules/iCalendar/iCalendar.aspx?feed=calendar&catID=22
END:VEVENT
BEGIN:VEVENT
DESCRIPTION: https://northeastsector.ca/calendar.aspx?EID=2840
DTEND;TZID=America/Los_Angeles:20260528T150000
DTSTAMP;TZID=America/Los_Angeles:20260420T100316
DTSTART;TZID=America/Los_Angeles:20260528T130000
LAST-MODIFIED;TZID=America/Los_Angeles:20260420T100316
LOCATION: - Dogwood Pavilion - North View Room 1655 Winslow Avenue Coquitla
 m BC V3J 7X1
SEQUENCE:0
SUMMARY:Creative Arts
UID:2840
URL:/common/modules/iCalendar/iCalendar.aspx?feed=calendar&catID=22
END:VEVENT
BEGIN:VEVENT
DESCRIPTION: https://northeastsector.ca/calendar.aspx?EID=2847
DTEND;TZID=America/Los_Angeles:20260526T150000
DTSTAMP;TZID=America/Los_Angeles:20260420T102526
DTSTART;TZID=America/Los_Angeles:20260526T133000
LAST-MODIFIED;TZID=America/Los_Angeles:20260420T102526
LOCATION: - Glen Pine Pavilion - Corner Pocket 1200 Glen Pine Court Coquitl
 am BC V3B 0B2
SEQUENCE:0
SUMMARY:Fun with Soluble Inks and Pens
UID:2847
URL:/common/modules/iCalendar/iCalendar.aspx?feed=calendar&catID=22
END:VEVENT
BEGIN:VEVENT
DESCRIPTION: https://northeastsector.ca/calendar.aspx?EID=2846
DTEND;TZID=America/Los_Angeles:20260526T103000
DTSTAMP;TZID=America/Los_Angeles:20260420T102220
DTSTART;TZID=America/Los_Angeles:20260526T093000
LAST-MODIFIED;TZID=America/Los_Angeles:20260420T102220
LOCATION: - Glen Pine Pavilion - Lemon Tree Room 1200 Glen Pine Court Coqui
 tlam BC V3B 0B2
SEQUENCE:0
SUMMARY:Sitting Tai Chi/QiGong
UID:2846
URL:/common/modules/iCalendar/iCalendar.aspx?feed=calendar&catID=22
END:VEVENT
BEGIN:VEVENT
DESCRIPTION: https://northeastsector.ca/calendar.aspx?EID=2851
DTEND;TZID=America/Los_Angeles:20260524T161500
DTSTAMP;TZID=America/Los_Angeles:20260420T111625
DTSTART;TZID=America/Los_Angeles:20260524T154500
LAST-MODIFIED;TZID=America/Los_Angeles:20260420T111625
LOCATION: - Pinetree Community Centre - Combatants Room 1/2 1260 Pinetree W
 ay Coquitlam BC V3B 7Z4
SEQUENCE:0
SUMMARY:Seniors Can Move
UID:2851
URL:/common/modules/iCalendar/iCalendar.aspx?feed=calendar&catID=22
END:VEVENT
BEGIN:VEVENT
DESCRIPTION: https://northeastsector.ca/calendar.aspx?EID=2842
DTEND;TZID=America/Los_Angeles:20260524T144500
DTSTAMP;TZID=America/Los_Angeles:20260420T100754
DTSTART;TZID=America/Los_Angeles:20260524T133000
LAST-MODIFIED;TZID=America/Los_Angeles:20260420T100754
LOCATION: - Poirier Sport & Leisure Complex - Ice Arena 3 633 Poirier Stree
 t Coquitlam BC V3J 2N4
SEQUENCE:0
SUMMARY:Sensory Friendly Skate
UID:2842
URL:/common/modules/iCalendar/iCalendar.aspx?feed=calendar&catID=22
END:VEVENT
BEGIN:VEVENT
DESCRIPTION: https://northeastsector.ca/calendar.aspx?EID=2849
DTEND;TZID=America/Los_Angeles:20260524T163000
DTSTAMP;TZID=America/Los_Angeles:20260420T110731
DTSTART;TZID=America/Los_Angeles:20260524T133000
LAST-MODIFIED;TZID=America/Los_Angeles:20260420T110731
LOCATION: - Pinetree Community Centre - Room 2 1260 Pinetree Way Coquitlam 
 BC V3B 7Z4
SEQUENCE:0
SUMMARY:Hearing Screening 
UID:2849
URL:/common/modules/iCalendar/iCalendar.aspx?feed=calendar&catID=22
END:VEVENT
BEGIN:VEVENT
DESCRIPTION: https://northeastsector.ca/calendar.aspx?EID=2850
DTEND;TZID=America/Los_Angeles:20260524T154500
DTSTAMP;TZID=America/Los_Angeles:20260420T111235
DTSTART;TZID=America/Los_Angeles:20260524T133000
LAST-MODIFIED;TZID=America/Los_Angeles:20260420T111235
LOCATION: - Town Centre Park - College Access Road 1299 Pinetree Way Coquit
 lam BC V3B 7Y3
SEQUENCE:0
SUMMARY:Paddling - Try It!
UID:2850
URL:/common/modules/iCalendar/iCalendar.aspx?feed=calendar&catID=22
END:VEVENT
BEGIN:VEVENT
DESCRIPTION: https://northeastsector.ca/calendar.aspx?EID=2839
DTEND;TZID=America/Los_Angeles:20260524T150000
DTSTAMP;TZID=America/Los_Angeles:20260420T100258
DTSTART;TZID=America/Los_Angeles:20260524T130000
LAST-MODIFIED;TZID=America/Los_Angeles:20260420T100258
LOCATION: - Dogwood Pavilion - North View Room 1655 Winslow Avenue Coquitla
 m BC V3J 7X1
SEQUENCE:0
SUMMARY:Movie Matinee
UID:2839
URL:/common/modules/iCalendar/iCalendar.aspx?feed=calendar&catID=22
END:VEVENT
BEGIN:VEVENT
DESCRIPTION: https://northeastsector.ca/calendar.aspx?EID=2844
DTEND;TZID=America/Los_Angeles:20260524T110000
DTSTAMP;TZID=America/Los_Angeles:20260420T101425
DTSTART;TZID=America/Los_Angeles:20260524T100000
LAST-MODIFIED;TZID=America/Los_Angeles:20260420T101425
LOCATION: - Dogwood Pavilion - North View Room 1655 Winslow Avenue Coquitla
 m BC V3J 7X1
SEQUENCE:0
SUMMARY:Compost Works!
UID:2844
URL:/common/modules/iCalendar/iCalendar.aspx?feed=calendar&catID=22
END:VEVENT
BEGIN:VEVENT
DESCRIPTION: https://northeastsector.ca/calendar.aspx?EID=2843
DTEND;TZID=America/Los_Angeles:20260524T110000
DTSTAMP;TZID=America/Los_Angeles:20260420T101159
DTSTART;TZID=America/Los_Angeles:20260524T093000
LAST-MODIFIED;TZID=America/Los_Angeles:20260420T101159
LOCATION: - Town Centre Park - Inspiration Garden 1299 Pinetree Way Coquitl
 am BC V3B 7S4
SEQUENCE:0
SUMMARY:Garden Meditative Guided Walk
UID:2843
URL:/common/modules/iCalendar/iCalendar.aspx?feed=calendar&catID=22
END:VEVENT
BEGIN:VEVENT
DESCRIPTION: https://northeastsector.ca/calendar.aspx?EID=2838
DTEND;TZID=America/Los_Angeles:20260523T140000
DTSTAMP;TZID=America/Los_Angeles:20260414T122044
DTSTART;TZID=America/Los_Angeles:20260523T100000
LAST-MODIFIED;TZID=America/Los_Angeles:20260414T122044
LOCATION: - 500 Mariner Way  Coquitlam BC V3K 7B6
SEQUENCE:0
SUMMARY:Public Works Week 2026
UID:2838
URL:/common/modules/iCalendar/iCalendar.aspx?feed=calendar&catID=22
END:VEVENT
BEGIN:VEVENT
DESCRIPTION: https://northeastsector.ca/calendar.aspx?EID=2830
DTEND;TZID=America/Los_Angeles:20260516T200000
DTSTAMP;TZID=America/Los_Angeles:20260414T115537
DTSTART;TZID=America/Los_Angeles:20260516T140000
LAST-MODIFIED;TZID=America/Los_Angeles:20260414T115537
LOCATION: - Town Centre Park - Meadow and Community Plaza\, Lot 1299 Pinetr
 ee Way Coquitlam BC V3B 7S4
SEQUENCE:0
SUMMARY:Chinese Spring Festival Fair 
UID:2830
URL:/common/modules/iCalendar/iCalendar.aspx?feed=calendar&catID=22
END:VEVENT
BEGIN:VEVENT
DESCRIPTION: https://northeastsector.ca/calendar.aspx?EID=2837
DTEND;TZID=America/Los_Angeles:20260516T130000
DTSTAMP;TZID=America/Los_Angeles:20260414T120107
DTSTART;TZID=America/Los_Angeles:20260516T090000
LAST-MODIFIED;TZID=America/Los_Angeles:20260414T120107
LOCATION: - Throughout Coquitlam    
SEQUENCE:0
SUMMARY:City Wide Garage Sale
UID:2837
URL:/common/modules/iCalendar/iCalendar.aspx?feed=calendar&catID=22
END:VEVENT
BEGIN:VEVENT
DESCRIPTION: https://northeastsector.ca/calendar.aspx?EID=2829
DTEND;TZID=America/Los_Angeles:20260509T190000
DTSTAMP;TZID=America/Los_Angeles:20260331T083452
DTSTART;TZID=America/Los_Angeles:20260509T093000
LAST-MODIFIED;TZID=America/Los_Angeles:20260331T083452
LOCATION: - Town Centre Park - Plaza 1299 Pinetree Way Coquitlam BC V3B 7S4
SEQUENCE:0
SUMMARY:CMTA District Music Festival
UID:2829
URL:/common/modules/iCalendar/iCalendar.aspx?feed=calendar&catID=22
END:VEVENT
BEGIN:VEVENT
DESCRIPTION: https://northeastsector.ca/calendar.aspx?EID=2818
DTEND;TZID=America/Los_Angeles:20260503T113000
DTSTAMP;TZID=America/Los_Angeles:20260306T110851
DTSTART;TZID=America/Los_Angeles:20260503T093000
LAST-MODIFIED;TZID=America/Los_Angeles:20260306T110851
LOCATION: - Town Centre Park - West Upper Field 1299 Pinetree Way Coquitlam
  BC V3B 7S4
SEQUENCE:0
SUMMARY:3rd Annual Coquitlam GBS/CIDP Walk and Roll
UID:2818
URL:/common/modules/iCalendar/iCalendar.aspx?feed=calendar&catID=22
END:VEVENT
BEGIN:VEVENT
DESCRIPTION: https://northeastsector.ca/calendar.aspx?EID=2828
DTEND;TZID=America/Los_Angeles:20260503T113000
DTSTAMP;TZID=America/Los_Angeles:20260331T083130
DTSTART;TZID=America/Los_Angeles:20260503T093000
LAST-MODIFIED;TZID=America/Los_Angeles:20260331T083130
LOCATION: - Town Centre Park 1299 Pinetree Way Coquitlam BC V3B 7S4
SEQUENCE:0
SUMMARY:Coquitlam Walk and Roll
UID:2828
URL:/common/modules/iCalendar/iCalendar.aspx?feed=calendar&catID=22
END:VEVENT
BEGIN:VEVENT
DESCRIPTION: https://northeastsector.ca/calendar.aspx?EID=2820
DTEND;TZID=America/Los_Angeles:20260502T130000
DTSTAMP;TZID=America/Los_Angeles:20260325T140956
DTSTART;TZID=America/Los_Angeles:20260502T090000
LAST-MODIFIED;TZID=America/Los_Angeles:20260325T140956
LOCATION: - Dogwood Pavilion - Parking Lot 1655 Winslow Avenue Coquitlam BC
  V3J 7X1
SEQUENCE:0
SUMMARY:Dogwood Garden Club Plant Sale
UID:2820
URL:/common/modules/iCalendar/iCalendar.aspx?feed=calendar&catID=22
END:VEVENT
BEGIN:VEVENT
DESCRIPTION: https://northeastsector.ca/calendar.aspx?EID=2848
DTEND;TZID=America/Los_Angeles:20260430T210000
DTSTAMP;TZID=America/Los_Angeles:20260420T103118
DTSTART;TZID=America/Los_Angeles:20260430T180000
LAST-MODIFIED;TZID=America/Los_Angeles:20260420T103118
LOCATION: - Coquitlam Heritage at Mackin House 1116 Brunette Avenue Coquitl
 am BC V3K 1G2
SEQUENCE:0
SUMMARY:Connecting with Coquitlam's Past: Exhibit Opening Party
UID:2848
URL:/common/modules/iCalendar/iCalendar.aspx?feed=calendar&catID=22
END:VEVENT
BEGIN:VEVENT
DESCRIPTION: https://northeastsector.ca/calendar.aspx?EID=2819
DTEND;TZID=America/Los_Angeles:20260425T140000
DTSTAMP;TZID=America/Los_Angeles:20260306T111745
DTSTART;TZID=America/Los_Angeles:20260425T100000
LAST-MODIFIED;TZID=America/Los_Angeles:20260306T111745
LOCATION: - Dogwood Pavilion - Mike Butler Room  1655 Winslow Avenue Coquit
 lam BC V3J 7X1
SEQUENCE:0
SUMMARY:Repair Cafe
UID:2819
URL:/common/modules/iCalendar/iCalendar.aspx?feed=calendar&catID=22
END:VEVENT
END:VCALENDAR
